BEGIN:VCALENDAR
VERSION:2.0
PRODID:-//Source Hoops - ECPv4.9.14//NONSGML v1.0//EN
CALSCALE:GREGORIAN
METHOD:PUBLISH
X-WR-CALNAME:Source Hoops
X-ORIGINAL-URL:https://www.sourcehoops.com
X-WR-CALDESC:Events for Source Hoops
BEGIN:VTIMEZONE
TZID:UTC
BEGIN:STANDARD
TZOFFSETFROM:+0000
TZOFFSETTO:+0000
TZNAME:UTC
DTSTART:20250101T000000
END:STANDARD
END:VTIMEZONE
BEGIN:VEVENT
DTSTART;VALUE=DATE:20250418
DTEND;VALUE=DATE:20250420
DTSTAMP:20260421T150204
CREATED:20250103T151706Z
LAST-MODIFIED:20250416T212940Z
UID:9759-1744934400-1745107199@www.sourcehoops.com
SUMMARY:Spring Tip-Off
DESCRIPTION:#SpringTipOff\nSome of the top teams in the country will attend the Spring Tip-Off.  This event provides players and teams with great competition and exposure. \nEVENT FEATURES \n\nCompetitive games\nShowcase style format 10U-17U/Sr (Boys)\nTwo & Three game options\nExposure to National\, Regional & Local Scouting Services plus print media\nTop Travel Teams annually from every corner of the state\nInterviews\, Photos\, and Video Highlights\n\nSCHEDULE WILL BE LIVE BY 4PM ON WEDNESDAY 4/16/2025. \n2025 SCHEDULE IS LIVE \n  \nEVENT DETAILS\nAGE GROUPS \n10U-17U/Sr (Boys) \n  \nGYM LOCATION\nSoutheastern Preparatory Academy\n8701 Maitland Summit Blvd\nMaitland\, FL 32810 \n  \nADMISSION PRICES \nDaily Admission – Friday ($10) Saturday ($20) \n  \nCONTACT \nCory Rollins 850-251-0695 \n\n
URL:https://www.sourcehoops.com/event/spring-tip-off-shn-session-2/
LOCATION:Orlando\, FL\, FL\, United States
CATEGORIES:Sourcehoops Events,Tournament
ATTACH;FMTTYPE=image/png:https://www.sourcehoops.com/wp-content/uploads/2020/12/Spring-Tip-Off-logo-e1675455438716.png
ORGANIZER;CN="Cory%20Rollins":MAILTO:crollins@sourcehoops.com
END:VEVENT
END:VCALENDAR