BEGIN:VCALENDAR
VERSION:2.0
PRODID:-//Source Hoops - ECPv4.9.14//NONSGML v1.0//EN
CALSCALE:GREGORIAN
METHOD:PUBLISH
X-WR-CALNAME:Source Hoops
X-ORIGINAL-URL:https://www.sourcehoops.com
X-WR-CALDESC:Events for Source Hoops
BEGIN:VTIMEZONE
TZID:UTC
BEGIN:STANDARD
TZOFFSETFROM:+0000
TZOFFSETTO:+0000
TZNAME:UTC
DTSTART:20250101T000000
END:STANDARD
END:VTIMEZONE
BEGIN:VEVENT
DTSTART;TZID=UTC:20250705T083000
DTEND;TZID=UTC:20250706T170000
DTSTAMP:20260421T150444
CREATED:20230203T204914Z
LAST-MODIFIED:20250630T161817Z
UID:8173-1751704200-1751821200@www.sourcehoops.com
SUMMARY:Miami Summer Hoops Festival
DESCRIPTION:#MiaHoopsFestival\nThe national grassroots basketball scene will be “muy caliente” as Source Hoops invites top travel teams to bring their talents to South Florida.  Come out and enjoy high level basketball on the legendary Miami Summer Hoops Festival stage. \nEVENT FEATURES\n\nCompetitive games\nTournament Play 11U (2033) -14U (2029) (Boys/Girls)\nShowcase style format 15U-17U/Sr (Boys/Girls)\nTwo\, Three & Four game options for Showcase Games\nExposure to National\, Regional & Local Scouting Services plus media outlets\nInterview\, Photos\, and Video Highlights\nTop players earn Invites to our camps & showcases\nNon D1 College Coaches Invited\n\nClick Here to Register\nREGISTRATION\n15U-17U Showcase Cost: $375 (4 games) \n2 showcase games – $250\n3 showcase games –  $325 \n10U-14U Tournament Cost: $325 (3 game guarantee) \n2025 Age:Grade Requirements \nDEADLINE TO REGISTER JUNE 30TH \n  \nGYM LOCATIONS \nNorth Broward Preparatory School\n7600 Lyons Rd\nCoconut Creek\, FL 33073 \nCoral Springs Gymnasium\n2501 Coral Springs Drive\nCoral Springs\, FL 33065 \n  \nHOST HOTEL\nFairfield Inn & Suites Ft. Lauderdale Northwest\n6800 NW 88th Ave\nTamarac\, FL 33321\nBOOK ROOM (Deadline July 3rd) \n  \nADMISSION PRICES \nDaily Admission – $20 (kids 6 and under free) \n  \nCONTACT \nCory Rollins 850-251-0695 \n
URL:https://www.sourcehoops.com/event/miami-summer-hoops-festival/
LOCATION:Davie\, FL\, FL\, United States
CATEGORIES:Sourcehoops Events,Tournament
ATTACH;FMTTYPE=image/png:https://www.sourcehoops.com/wp-content/uploads/2023/02/Miami-Hoops-Festival-e1675457383258.png
ORGANIZER;CN="Cory%20Rollins":MAILTO:crollins@sourcehoops.com
END:VEVENT
END:VCALENDAR