BEGIN:VCALENDAR
VERSION:2.0
PRODID:-//Source Hoops - ECPv4.9.14//NONSGML v1.0//EN
CALSCALE:GREGORIAN
METHOD:PUBLISH
X-WR-CALNAME:Source Hoops
X-ORIGINAL-URL:https://www.sourcehoops.com
X-WR-CALDESC:Events for Source Hoops
BEGIN:VTIMEZONE
TZID:UTC
BEGIN:STANDARD
TZOFFSETFROM:+0000
TZOFFSETTO:+0000
TZNAME:UTC
DTSTART:20230101T000000
END:STANDARD
END:VTIMEZONE
BEGIN:VEVENT
DTSTART;TZID=UTC:20230401T080000
DTEND;TZID=UTC:20230402T170000
DTSTAMP:20260421T160657
CREATED:20230203T192922Z
LAST-MODIFIED:20230331T220616Z
UID:8149-1680336000-1680454800@www.sourcehoops.com
SUMMARY:Miami Showdown
DESCRIPTION:#MiamiShowdown\nKeep the momentum going or make a huge splash after the April Live Periods at the Miami Showdown.  Top matchups and exposure will be in full effect. \nTOURNAMENT FEATURES \n\nShowcase style format\nTwo\, Three & Four game options\nExposure to National\, Regional & Local Scouting Services plus media outlets\nInterview\, Photos\, and Video Highlights\nTop players earn Invites to our camps & showcases\nNon D1 College Coaches Invited\n\nCost: $275 – $395 \nTEAM REGISTRATION\nSCHEDULE\nRULES & INFO \n  \nEVENT DETAILS\nAGE GROUPS \n15U-17U \n  \nLOCATION\nSlam Miami\n542 NW 12th Ave\nMiami\, FL 33136 \n  \nADMISSION PRICES \nDaily – $20 \nWeekend Pass – $30 \n  \nCONTACT \nCory Rollins 850-251-0695 \nCoach G 305-588-6127 \n
URL:https://www.sourcehoops.com/event/miami-showdown/
LOCATION:Slam Academy\, 542 NW 12th Ave\, Miami\, FL\, 33136\, United States
CATEGORIES:Sourcehoops Events,Tournament
ATTACH;FMTTYPE=image/png:https://www.sourcehoops.com/wp-content/uploads/2023/02/A05.-Miami-Showdown-Logo-e1675452760865.png
ORGANIZER;CN="Cory%20Rollins":MAILTO:crollins@sourcehoops.com
END:VEVENT
END:VCALENDAR